Workbook

Sheet Termos e Definições
B1: TERMO | C1: DEFINIÇÃO
B2: Abordagem de pesquisa | C2: Quais testes e experimentos precisam ser feitos (experimental, observacional? Qualitativo ou quantitativo?)
B3: Alta Fidelidade | C3: Qualificação dada a um modelo/protótipo que guarda grande similaridade com o produto final, na função a que se destina, tendo também comportamento, estrutura e composição similares ligadas à função crítica que se propõe.
B4: Ambiente Controlado | C4: Área que deve ter certos parâmetros controlados, como por exemplo, pressão, temperatura e segregação. Necessário para demonstrar os princípios subjacentes e o desempenho funcional do elemento
B5: Ambiente de Produção | C5: Ambiente com realismo de chão de fábrica (operadores, estruturas, ferramentais, materiais, etc.), destinados ao processamento, manufatura e produção do elemento/tecnologia.
B6: Ambiente Laboratorial | C6: São considerados ambientes controlados, com controle de temperatura e pressão, possuindo estrutura e equipamentos próprios e que são distintos do ambiente real e operacional.
B7: Ambiente Operacional | C7: Ambiente destinado a execução das atividades ligadas a função do elemento/tecnologia.
B8: Ambiente Real | C8: Ambiente operacional com todas as condições normais de operação e manuseio usuais e pelas quais a tecnologia sempre se submeterá durante seu uso.
B9: Ambiente Relevante | C9: Ambiente utilizado para demonstrar o desempenho geral do elemento/tecnologia, considerando parâmetros de referência a serem observados em ambiente real, ou seja, ambiente simulado e com escalabilidade que extrapole as condições normais de operação.
B10: Antecedentes
B11: Arquitetura da Tecnologia | C11: Projeto de design das soluções com base nas necessidades da tecnologia. Conhecimentos técnicos e habilidades que alinham a tecnologia aos seus objetivos com foco na sua concepção e desenho do conjunto de elementos que, a partir de uma necessidade, sustentará as funcionalidades de um sistema.
B12: Baixa Fidelidade | C12: Qualificação dada a um modelo/protótipo que guarda alguma similaridade com o produto final, sendo restrito a alguns elementos da função a que se destina, não tendo necessariamente o mesmo comportamento, estrutura e composição do modelo final.
B13: Característica | C13: Ferramenta descritiva, dos aspectos físicos ou construtivos da tecnologia em análise.
B14: Conceito operacional | C14: Define sobre quais parâmetros o ambiente e a operação da tecnologia serão definidos e utilizados.
B15: Condições de Estresse | C15: Submissão de componente, modelo, protótipo ou tecnologia às condições extremas de utilização, até sua falha ou seu limite operacional.
B16: Dados primários | C16: Dados originais, observáveis diretamente em sua condição e ecossistema, sem interferência de coleta ou intermediação. Coletados pela primeira vez por um pesquisador, por método próprio.
B17: Dados sintéticos (artificiais) | C17: Resultado do tratamento de dados reais, sem comprometimento da privacidade, possivelmente tabulados ou expressos por meio de relatórios.
B18: Declaração de Problema | C18: É parte integrante do processo de design e consiste na melhor definição de um problema com observações sintéticas e objetivas desde o primeiro estágio do processo. Uma ótima declaração de problema orientará o trabalho da equipe que iniciará a fase de concepção / criação – trazendo clareza e foco ao processo de design.
B19: Desempenho Funcional de um Elemento | C19: Aspectos de um elemento observados ou medidos a partir de sua operação ou função.
B20: Desenhos de rascunho | C20: Desenhos não definitivos da arquitetura da tecnologia, utilizando anotações de fácil entendimento, elaborado após a fase de definição do protótipo.
B21: Desenvolvimento experimental | C21: Trabalhos sistemáticos delineados a partir de conhecimentos pré-existentes, visando a comprovação ou demonstração da viabilidade técnica ou funcional de novos produtos, processos, sistemas e serviços ou, ainda, um evidente aperfeiçoamento dos já produzidos ou estabelecidos.
B22: Design experimental | C22: Definição de um plano experimental detalhado antes de fazer o experimento. Um design experimental bem realizado maximiza a quantidade de "informações" que podem ser obtidas a partir de uma determinada quantidade de esforço experimental.
... B27: Fundamentos do Pensamento | C27: Base de conhecimento, tácito e explícito, com a definição das premissas utilizadas para a teorização do elemento / tecnologia.
B28: Função Crítica
B29: GMP | C29: Good Manufacturing Practices (GMP), traduz-se como boas práticas de produção, consistem em um conjunto de regras que visam garantir a qualidade dos procedimentos.
B30: Integração de Componentes | C30: Testes realizados com a finalidade de garantir que a combinação entre os componentes do sistema produza um comportamento esperado. A verificação da integração entre os componentes da aplicação torna-se essencial para obter um produto final de qualidade.
B31: Interfaces entre componentes | C31: Uma interface disponibiliza tipos variados de acesso entre componentes, como por exemplo: constantes, tipos de dado, procedimentos, especificação de exceções e assinaturas de métodos. Em alguns casos é mais apropriado definir as variáveis como parte das interfaces. As interfaces também especificam a funcionalidade disponibilizada através de comentários ou através de declarações lógicas formais.
B32: Limitada em escala industrial | C32: Tecnologia de produção ainda pouco replicável
B33: Lotes piloto | C33: Lotes da tecnologia produzidos no início da produção, com a finalidade de testar procedimentos e processos produtivos e avaliar a qualidade e a operação em si.
B34: M&S | C34: Termo em inglês para modelagem e simulação
B35: Maquete | C35: Modelo reduzido da tecnologia
B36: Mapeamento
B37: Minuta de Análise econômica | C37: Documento produzido a fim de se avaliar as capacidades econômicas e a viabilidade econômica da tecnologia para produção e comercialização.
B38: Modelo | C38: Representação da tecnologia
B39: Modelo Analítico | C39: Modelo teórico explícito
B40: Modelo de Uso | C40: Modelo pronto para uso
B41: Modelo/Protótipo representativo | C41: Modelo com alta fidelidade que reflete todos os aspectos da tecnologia
B42: Modelo/Protótipo representativo de função | C42: Modelo com alta fidelidade que se reflete em apenas uma função da tecnologia
B43: Multitecnologia | C43: Múltiplas tecnologias ou tecnologias multifacetadas
B44: Nível de Segurança | C44: Nível de tolerância estabelecido para o funcionamento da tecnologia, com nível de risco de segurança aceitável.
...

Sheet FormMT
B7: Calculadora de Maturidade Tecnológica
B9: MT 1 - Princípios de Base
B10: ORDEM | C10: PERGUNTAS | D10: RESPOSTAS
B11: 1 | C11: Algum problema foi identificado para obter os fundamentos do pensamento como abordagem? | D11: SIM
B12: 2 | C12: Foi feita a formulação de princípios de base? | D12: SIM
B13: 3 | C13: Foram identificados antecedentes? | D13: SIM
B14: 4 | C14: Foi feito estudo sobre a literatura e fundamentação teórica que trata dos princípios de base previstos? | D14: SIM
B15: 5 | C15: Foram identificados princípios de base previstos para o uso de novas tecnologias? | D15: SIM
B16: 6 | C16: Foram definidos objetivos de P&D? | D16: SIM
B17: 7 | C17: Foram determinadas premissas e hipóteses básicas da tecnologia (projeto)? | D17: SIM
B18: 8 | C18: Foram identificadas aplicações potenciais após observações de base? | D18: SIM
B19: 9 | C19: Estão disponíveis meios, métodos e processos a serem utilizados e desenvolvidos? | D19: SIM
B20: 10 | C20: Foram definidas características básicas? Ex. arquitetura, formulação matemática, conceito de dispositivo, revisão de princípios, princípios científicos. | D20: SIM
B21: 11 | C21: Foi descrita uma potencial aplicação científica para a resolução de problemas? | D21: SIM
B22: 12 | C22: Foi feito levantamento inicial sobre os benefícios da tecnologia (projeto)? | D22: SIM
B23: 13 | C23: A comunidade de pesquisa básica está explorando alguma nova área tecnológica? | D23: SIM
B25: MT 2 - Conceitos e aplicações
B26: ORDEM | C26: PERGUNTAS | D26: RESPOSTAS
B27: 1 | C27: Formulado conceito preliminar da tecnologia (do elemento)? | D27: SIM
B28: 2 | C28: Previsão de desempenho da tecnologia foi feito? | D28: SIM
B29: 3 | C29: Conceitos qualitativos de P&D sobre fatos, detalhes, significados e interpretação estão disponíveis? | D29: SIM
B30: 4 | C30: Protocolo de pesquisa para verificação do conceito e aplicação da tecnologia estão disponíveis? | D30: SIM
B31: 5 | C31: Protocolo da pesquisa e seu planejamento foram revisados e aprovados? | D31: SIM
B32: 6 | C32: Identificados quais experimentos precisam ser feitos (abordagem de pesquisa)? | D32: SIM
B33: 7 | C33: Potencial usuário/consumidor e aplicação da tecnologia foram identificados? | D33: SIM
B34: 8 | C34: Existem exemplos de aplicações (restritos a estudos analíticos com dados simulados/calculados)? | D34: SIM
B35: 9 | C35: Os componentes da tecnologia a serem utilizados foram identificados? | D35: SIM
B36: 10 | C36: Caracterização dos componentes da tecnologia a ser desenvolvida foi dominada e compreendida? | D36: SIM
B37: 11 | C37: Foi realizado o estudo da viabilidade da tecnologia (do conceito e das aplicações)? | D37: SIM
B38: 12 | C38: Foi realizada a revisão da literatura do conceito e das aplicações da tecnologia? | D38: SIM
... B46: 20 | C46: Pesquisa inicial de mercado para identificação de demanda e viabilidade já começou e foi avaliada? | D46: SIM
B48: MT 3 - Prova de conceito , Função Crítica, Característica da Tecnologia, Analítico e Experimentação
B49: ORDEM | C49: PERGUNTAS | D49: RESPOSTAS
B50: 1 | C50: A prova de conceito inclui estudos analíticos e experimentos laboratoriais? | D50: SIM
B51: 2 | C51: Estão disponíveis estudos analíticos que apoiem o desempenho previsto dos elementos da tecnologia? | D51: SIM
B52: 3 | C52: Os requisitos de desempenho definidos são consistentes com o conceito ou aplicação formulada? | D52: SIM
B53: 4 | C53: Os requisitos de desempenho da tecnologia estão estabelecidos? | D53: SIM
B54: 5 | C54: As evidências ou análise detalhada sobre o conceito e/ou aplicação para apoiar suposições feitas / realizadas são suficientes? | D54: SIM
B55: 6 | C55: As características da tecnologia estão definidos? | D55: SIM
B56: 7 | C56: O projeto de metodologia a ser utilizado para responder às perguntas da pesquisa foi elaborado? | D56: SIM
...

Sheet Resultado
B2: CALCULADORA DE MATURIDADE TECNOLÓGICA
B4: Instituição de Pesquisa
B5: Gerente de Pesquisa
B6: Nome do Projeto
B7: Código do Projeto
B8: Índice de Maturidade Tecnológica | F8: =Parametros!C21 -> 5

Sheet Parametros
E2: Opções
B3: Limite para não atende | C3: 0.15 | E3: SIM
B4: Limite para conclusão de nível de TRL | C4: 0.85 | E4: N.A.
E5: NÃO
B6: Cálculo SIM | C6: =COUNTIF(FormMT!D11:D23,#REF! ) -> 0
B7: Cálculo NÃO
B8: Cálculo NA
B12: Número Absoluto de Perguntas | C12: 13 | D12: 20 | E12: 18 | F12: 21 | G12: 21 | H12: 21 | I12: 12 | J12: 10 | K12: 6
B13: Número de Perguntas-N.A | C13: =C12-Parametros!$C28 -> 13 | D13: =D12-Parametros!$C37 -> 20 | E13: =E12-Parametros!$C46 -> 18 | F13: =F12-Parametros!$C54 -> 21 | G13: =G12-Parametros!$C62 -> 21 | H13: =H12-Parametros!$C70 -> 21 | I13: =I12-Parametros!$C78 -> 12 | J13: =J12-Parametros!$C86 -> 10 | K13: =K12-Parametros!$C94 -> 6
C14: TRL 1 | D14: TRL 2 | E14: TRL 3 | F14: TRL 4 | G14: TRL 5 | H14: TRL 6 | I14: TRL 7 | J14: TRL 8 | K14: TRL 9
B15: Sim | C15: =Parametros!$C26 -> 13 | D15: =Parametros!$C35 -> 20 | E15: =Parametros!$C44 -> 18 | F15: =Parametros!$C52 -> 21 | G15: =Parametros!$C60 -> 18 | H15: =Parametros!$C68 -> 0 | I15: =Parametros!$C76 -> 0 | J15: =Parametros!$C84 -> 0 | K15: =Parametros!$C92 -> 0
B16: Não | C16: =Parametros!$C27 -> 0 | D16: =Parametros!$C36 -> 0 | E16: =Parametros!$C45 -> 0 | F16: =Parametros!$C53 -> 0 | G16: =Parametros!$C61 -> 3 | H16: =Parametros!$C69 -> 21 | I16: =Parametros!$C77 -> 12 | J16: =Parametros!$C85 -> 10 | K16: =Parametros!$C93 -> 10
B17: Não se Aplica | C17: =Parametros!$C28 -> 0 | D17: =Parametros!$C37 -> 0 | E17: =Parametros!$C46 -> 0 | F17: =Parametros!$C54 -> 0 | G17: =Parametros!$C62 -> 0 | H17: =Parametros!$C70 -> 0 | I17: =Parametros!$C78 -> 0 | J17: =Parametros!$C86 -> 0 | K17: =Parametros!$C94 -> 0
B20: TRL Atual | C20: =IF(C31="não",1,IF(C30="não",0,ROUNDUP(C15/C13,1))) -> 1 | D20: =IF(C40="não",0,IF(C39="não",0,IF(C20=0,0,3))) -> 3 | E20: =IF(C49="não",0,IF(C48="não",0,IF(D20=0,0,3))) -> 3 | F20: =IF(C57="não",0,IF(C56="não",0,IF(E20=0,0,4))) -> 4 | G20: =IF(C65="não",0,IF(C64="não",0,IF(F20=0,0,5))) -> 5 | H20: =IF(C73="não",0,IF(C72="não",0,IF(G20=0,0,6))) -> 0 | I20: =IF(C81="não",0,IF(C80="não",0,IF(H20=0,0,7))) -> 0 | J20: =IF(C89="não",0,IF(C88="não",0,IF(I20=0,0,8))) -> 0 | K20: =IF(C97="não",0,IF(C96="não",0,IF(J20=0,0,9))) -> 0
C21: =IF(LARGE(C20:K20,1)=0,1,LARGE(C20:K20,1)) -> 5
A25: TRL1 | B25: Totais | C25: =SUM(C26:C28) -> 13
C26: =COUNTIF(FormMT!$D$11:$D$23,D26 ) -> 13 | D26: SIM
C27: =COUNTIF(FormMT!$D$11:$D$23,D27 ) -> 0 | D27: NÃO
C28: =COUNTIF(FormMT!$D$11:$D$23,D28 ) -> 0 | D28: N.A.
B30: Está abaixo de limite de "não se aplica" ? | C30: =IF(D30<=C$3,"sim","não") -> sim | D30: =IF(C25,ROUNDUP(C28/C25,2),0) -> 0
B31: Completou este TRL ? | C31: =IF(D31>=C$4,"sim","não") -> sim | D31: =IF(C26=0,0,ROUNDUP(C26/(C26+C27),2)) -> 1
A34: TRL2 | B34: Totais | C34: =SUM(C35:C37) -> 20
C35: =COUNTIF(FormMT!$D$27:$D$46,D35 ) -> 20 | D35: SIM
C36: =COUNTIF(FormMT!$D$27:$D$46,D36 ) -> 0 | D36: NÃO
C37: =COUNTIF(FormMT!$D$27:$D$46,D37 ) -> 0 | D37: N.A.
B39: Está abaixo de limite de "não se aplica" ? | C39: =IF(D39<=Parametros!C$3,"sim","não") -> sim | D39: =IF(C34,ROUNDUP(C37/C34,2),0) -> 0
B40: Completou este TRL ? | C40: =IF(D40>=C$4,"sim","não") -> sim | D40: =ROUNDUP(C35/(C35+C36),2) -> 1
A43: TRL3 | B43: Totais | C43: =SUM(C44:C46) -> 18
C44: =COUNTIF(FormMT!$D$50:$D$67,D44 ) -> 18 | D44: SIM
C45: =COUNTIF(FormMT!$D$50:$D$67,D45 ) -> 0 | D45: NÃO
C46: =COUNTIF(FormMT!$D$50:$D$67,D46 ) -> 0 | D46: N.A.
B48: Está abaixo de limite de "não se aplica" ? | C48: =IF(D48<=Parametros!C$3,"sim","não") -> sim | D48: =IF(C43,ROUNDUP(C46/C43,2),0) -> 0
B49: Completou este TRL ? | C49: =IF(D49>=C$4,"sim","não") -> sim | D49: =ROUNDUP(C44/(C44+C45),2) -> 1
A51: TRL4 | B51: Totais | C51: =SUM(C52:C54) -> 21
C52: =COUNTIF(FormMT!$D$71:$D$91,D52 ) -> 21 | D52: SIM
C53: =COUNTIF(FormMT!$D$71:$D$91,D53 ) -> 0 | D53: NÃO
C54: =COUNTIF(FormMT!$D$71:$D$91,D54 ) -> 0 | D54: N.A.
B56: Está abaixo de limite de "não se aplica" ? | C56: =IF(D56<=Parametros!C$3,"sim","não") -> sim | D56: =IF(C51,ROUNDUP(C54/C51,2),0) -> 0
B57: Completou este TRL ? | C57: =IF(D57>=C$4,"sim","não") -> sim | D57: =ROUNDUP(C52/(C52+C53),2) -> 1
A59: TRL5 | B59: Totais | C59: =SUM(C60:C62) -> 21
...
